Package: RIVER Version: 1.33.0 Command: /home/biocbuild/bbs-3.22-bioc/R/bin/R CMD check --install=check:RIVER.install-out.txt --library=/home/biocbuild/bbs-3.22-bioc/R/site-library --timings RIVER_1.33.0.tar.gz StartedAt: 2025-10-21 03:52:53 -0400 (Tue, 21 Oct 2025) EndedAt: 2025-10-21 03:54:26 -0400 (Tue, 21 Oct 2025) EllapsedTime: 93.1 seconds RetCode: 0 Status: OK CheckDir: RIVER.Rcheck Warnings: 0