Package: RIVER Version: 1.33.0 Command: /Library/Frameworks/R.framework/Resources/bin/R CMD INSTALL RIVER StartedAt: 2025-10-21 15:17:06 -0400 (Tue, 21 Oct 2025) EndedAt: 2025-10-21 15:17:20 -0400 (Tue, 21 Oct 2025) EllapsedTime: 13.7 seconds RetCode: 0 Status: OK