Package: RIVER Version: 1.33.0 Command: /Library/Frameworks/R.framework/Resources/bin/R CMD build --keep-empty-dirs --no-resave-data RIVER StartedAt: 2025-10-20 17:30:00 -0400 (Mon, 20 Oct 2025) EndedAt: 2025-10-20 17:30:10 -0400 (Mon, 20 Oct 2025) EllapsedTime: 10.1 seconds RetCode: 0 Status: OK PackageFile: RIVER_1.33.0.tar.gz PackageFileSize: 1.471 MiB