Package: RITAN Version: 1.33.0 Command: /home/biocbuild/bbs-3.22-bioc/R/bin/R CMD INSTALL RITAN StartedAt: 2025-10-23 15:43:14 -0400 (Thu, 23 Oct 2025) EndedAt: 2025-10-23 15:44:07 -0400 (Thu, 23 Oct 2025) EllapsedTime: 53.0 seconds RetCode: 0 Status: OK