Package: RITAN Version: 1.33.0 Command: /Library/Frameworks/R.framework/Resources/bin/R CMD check --install=check:RITAN.install-out.txt --library=/Library/Frameworks/R.framework/Resources/library --no-vignettes --timings RITAN_1.33.0.tar.gz StartedAt: 2025-10-24 23:47:09 -0400 (Fri, 24 Oct 2025) EndedAt: 2025-10-24 23:52:31 -0400 (Fri, 24 Oct 2025) EllapsedTime: 322.8 seconds RetCode: 0 Status: WARNINGS CheckDir: RITAN.Rcheck Warnings: 1