Package: RITAN Version: 1.33.0 Command: /Library/Frameworks/R.framework/Resources/bin/R CMD build --keep-empty-dirs --no-resave-data RITAN StartedAt: 2025-10-23 18:23:57 -0400 (Thu, 23 Oct 2025) EndedAt: 2025-10-23 18:26:04 -0400 (Thu, 23 Oct 2025) EllapsedTime: 127.0 seconds RetCode: 0 Status: OK PackageFile: RITAN_1.33.0.tar.gz PackageFileSize: 880.1 KiB