Package: RITAN Version: 1.33.0 Command: rm -rf RITAN.buildbin-libdir && mkdir RITAN.buildbin-libdir && /Users/biocbuild/BBS/utils/build-universal.sh RITAN_1.33.0.tar.gz /Library/Frameworks/R.framework/Resources/bin/R RITAN.buildbin-libdir StartedAt: 2025-10-24 01:53:33 -0400 (Fri, 24 Oct 2025) EndedAt: 2025-10-24 01:54:33 -0400 (Fri, 24 Oct 2025) EllapsedTime: 59.6 seconds RetCode: 0 Status: OK PackageFile: RITAN_1.33.0.tgz PackageFileSize: 973.1 KiB