Package: RITAN Version: 1.33.0 Command: /Library/Frameworks/R.framework/Resources/bin/R CMD check --install=check:RITAN.install-out.txt --library=/Library/Frameworks/R.framework/Resources/library --no-vignettes --timings RITAN_1.33.0.tar.gz StartedAt: 2025-10-23 21:48:14 -0400 (Thu, 23 Oct 2025) EndedAt: 2025-10-23 21:50:11 -0400 (Thu, 23 Oct 2025) EllapsedTime: 117.4 seconds RetCode: 0 Status: WARNINGS CheckDir: RITAN.Rcheck Warnings: 1