Package: RGSEA Version: 1.43.0 Command: /home/biocbuild/R/R/bin/R CMD INSTALL RGSEA StartedAt: 2025-10-20 20:23:34 -0000 (Mon, 20 Oct 2025) EndedAt: 2025-10-20 20:23:40 -0000 (Mon, 20 Oct 2025) EllapsedTime: 5.9 seconds RetCode: 0 Status: OK