Package: RGSEA Version: 1.43.0 Command: /Library/Frameworks/R.framework/Resources/bin/R CMD check --install=check:RGSEA.install-out.txt --library=/Library/Frameworks/R.framework/Resources/library --no-vignettes --timings RGSEA_1.43.0.tar.gz StartedAt: 2025-10-21 01:10:09 -0400 (Tue, 21 Oct 2025) EndedAt: 2025-10-21 01:11:02 -0400 (Tue, 21 Oct 2025) EllapsedTime: 52.8 seconds RetCode: 0 Status: OK CheckDir: RGSEA.Rcheck Warnings: 0