Package: RGSEA Version: 1.43.0 Command: /Library/Frameworks/R.framework/Resources/bin/R CMD build --keep-empty-dirs --no-resave-data RGSEA StartedAt: 2025-10-20 19:03:33 -0400 (Mon, 20 Oct 2025) EndedAt: 2025-10-20 19:04:31 -0400 (Mon, 20 Oct 2025) EllapsedTime: 57.3 seconds RetCode: 0 Status: OK PackageFile: RGSEA_1.43.0.tar.gz PackageFileSize: 1.723 MiB