Package: REMP Version: 1.34.0 Command: /Library/Frameworks/R.framework/Resources/bin/R CMD check --install=check:REMP.install-out.txt --library=/Library/Frameworks/R.framework/Resources/library --no-vignettes --timings REMP_1.34.0.tar.gz StartedAt: 2025-11-06 21:38:36 -0500 (Thu, 06 Nov 2025) EndedAt: 2025-11-06 21:41:52 -0500 (Thu, 06 Nov 2025) EllapsedTime: 195.5 seconds RetCode: 0 Status: OK CheckDir: REMP.Rcheck Warnings: 0