Package: REDseq Version: 1.55.0 Command: /home/biocbuild/R/R/bin/R CMD check --install=check:REDseq.install-out.txt --library=/home/biocbuild/R/R/site-library --no-vignettes --timings REDseq_1.55.0.tar.gz StartedAt: 2025-10-17 12:41:56 -0000 (Fri, 17 Oct 2025) EndedAt: 2025-10-17 12:48:30 -0000 (Fri, 17 Oct 2025) EllapsedTime: 394.6 seconds RetCode: 0 Status: OK CheckDir: REDseq.Rcheck Warnings: 0