Package: REDseq Version: 1.55.0 Command: /home/biocbuild/R/R/bin/R CMD build --keep-empty-dirs --no-resave-data REDseq StartedAt: 2025-10-21 02:22:44 -0000 (Tue, 21 Oct 2025) EndedAt: 2025-10-21 02:24:09 -0000 (Tue, 21 Oct 2025) EllapsedTime: 85.0 seconds RetCode: 0 Status: OK PackageFile: REDseq_1.55.0.tar.gz PackageFileSize: 351.4 KiB