Package: REDseq Version: 1.55.0 Command: F:\biocbuild\bbs-3.22-bioc\R\bin\R.exe CMD check --no-multiarch --install=check:REDseq.install-out.txt --library=F:\biocbuild\bbs-3.22-bioc\R\library --no-vignettes --timings REDseq_1.55.0.tar.gz StartedAt: 2025-08-15 06:55:16 -0400 (Fri, 15 Aug 2025) EndedAt: 2025-08-15 07:01:37 -0400 (Fri, 15 Aug 2025) EllapsedTime: 381.7 seconds RetCode: 0 Status: OK CheckDir: REDseq.Rcheck Warnings: 0