Package: REDseq Version: 1.55.0 Command: rm -rf REDseq.buildbin-libdir && mkdir REDseq.buildbin-libdir && F:\biocbuild\bbs-3.22-bioc\R\bin\R.exe CMD INSTALL --build --library=REDseq.buildbin-libdir REDseq_1.55.0.tar.gz StartedAt: 2025-08-15 11:05:55 -0400 (Fri, 15 Aug 2025) EndedAt: 2025-08-15 11:06:56 -0400 (Fri, 15 Aug 2025) EllapsedTime: 61.2 seconds RetCode: 0 Status: OK PackageFile: REDseq_1.55.0.zip PackageFileSize: 217.1 KiB