Package: REDseq Version: 1.55.0 Command: /home/biocbuild/bbs-3.22-bioc/R/bin/R CMD INSTALL REDseq StartedAt: 2025-10-19 15:53:49 -0400 (Sun, 19 Oct 2025) EndedAt: 2025-10-19 15:54:36 -0400 (Sun, 19 Oct 2025) EllapsedTime: 47.1 seconds RetCode: 0 Status: OK