Package: REDseq Version: 1.55.0 Command: /home/biocbuild/bbs-3.22-bioc/R/bin/R CMD build --keep-empty-dirs --no-resave-data --md5 REDseq StartedAt: 2025-10-19 19:34:06 -0400 (Sun, 19 Oct 2025) EndedAt: 2025-10-19 19:35:12 -0400 (Sun, 19 Oct 2025) EllapsedTime: 66.1 seconds RetCode: 0 Status: OK PackageFile: REDseq_1.55.0.tar.gz PackageFileSize: 362.8 KiB