Package: REDseq Version: 1.55.0 Command: /Library/Frameworks/R.framework/Resources/bin/R CMD INSTALL REDseq StartedAt: 2025-10-19 15:45:42 -0400 (Sun, 19 Oct 2025) EndedAt: 2025-10-19 15:46:47 -0400 (Sun, 19 Oct 2025) EllapsedTime: 65.5 seconds RetCode: 0 Status: OK