Package: REDseq Version: 1.55.0 Command: /Library/Frameworks/R.framework/Resources/bin/R CMD build --keep-empty-dirs --no-resave-data REDseq StartedAt: 2025-10-19 19:00:31 -0400 (Sun, 19 Oct 2025) EndedAt: 2025-10-19 19:02:24 -0400 (Sun, 19 Oct 2025) EllapsedTime: 112.3 seconds RetCode: 0 Status: OK PackageFile: REDseq_1.55.0.tar.gz PackageFileSize: 361 KiB