Package: REDseq Version: 1.55.0 Command: rm -rf REDseq.buildbin-libdir && mkdir REDseq.buildbin-libdir && /Users/biocbuild/BBS/utils/build-universal.sh REDseq_1.55.0.tar.gz /Library/Frameworks/R.framework/Resources/bin/R REDseq.buildbin-libdir StartedAt: 2025-10-20 03:28:02 -0400 (Mon, 20 Oct 2025) EndedAt: 2025-10-20 03:29:10 -0400 (Mon, 20 Oct 2025) EllapsedTime: 68.2 seconds RetCode: 0 Status: OK PackageFile: REDseq_1.55.0.tgz PackageFileSize: 417.3 KiB