Package: REDseq Version: 1.55.0 Command: /Library/Frameworks/R.framework/Resources/bin/R CMD build --keep-empty-dirs --no-resave-data REDseq StartedAt: 2025-10-22 17:30:27 -0400 (Wed, 22 Oct 2025) EndedAt: 2025-10-22 17:30:58 -0400 (Wed, 22 Oct 2025) EllapsedTime: 30.4 seconds RetCode: 0 Status: OK PackageFile: REDseq_1.55.0.tar.gz PackageFileSize: 361 KiB