Package: REBET Version: 1.27.0 Command: /Library/Frameworks/R.framework/Resources/bin/R CMD build --keep-empty-dirs --no-resave-data REBET StartedAt: 2025-10-03 18:39:01 -0400 (Fri, 03 Oct 2025) EndedAt: 2025-10-03 18:39:21 -0400 (Fri, 03 Oct 2025) EllapsedTime: 20.6 seconds RetCode: 0 Status: OK PackageFile: REBET_1.27.0.tar.gz PackageFileSize: 310.5 KiB