Package: REBET Version: 1.27.0 Command: /Library/Frameworks/R.framework/Resources/bin/R CMD INSTALL REBET StartedAt: 2025-10-03 15:04:20 -0400 (Fri, 03 Oct 2025) EndedAt: 2025-10-03 15:04:37 -0400 (Fri, 03 Oct 2025) EllapsedTime: 17.5 seconds RetCode: 0 Status: OK