Package: REBET Version: 1.27.0 Command: /Library/Frameworks/R.framework/Resources/bin/R CMD check --install=check:REBET.install-out.txt --library=/Library/Frameworks/R.framework/Resources/library --no-vignettes --timings REBET_1.27.0.tar.gz StartedAt: 2025-10-05 21:17:28 -0400 (Sun, 05 Oct 2025) EndedAt: 2025-10-05 21:17:51 -0400 (Sun, 05 Oct 2025) EllapsedTime: 22.4 seconds RetCode: 0 Status: OK CheckDir: REBET.Rcheck Warnings: 0