Package: REBET Version: 1.27.0 Command: rm -rf REBET.buildbin-libdir && mkdir REBET.buildbin-libdir && /Users/biocbuild/BBS/utils/build-universal.sh REBET_1.27.0.tar.gz /Library/Frameworks/R.framework/Resources/bin/R REBET.buildbin-libdir StartedAt: 2025-10-05 22:55:35 -0400 (Sun, 05 Oct 2025) EndedAt: 2025-10-05 22:55:39 -0400 (Sun, 05 Oct 2025) EllapsedTime: 4.1 seconds RetCode: 0 Status: OK PackageFile: REBET_1.27.0.tgz PackageFileSize: 331 KiB