Package: RCyjs Version: 2.31.0 Command: /Library/Frameworks/R.framework/Resources/bin/R CMD check --install=check:RCyjs.install-out.txt --library=/Library/Frameworks/R.framework/Resources/library --no-vignettes --timings RCyjs_2.31.0.tar.gz StartedAt: 2025-10-24 23:38:28 -0400 (Fri, 24 Oct 2025) EndedAt: 2025-10-24 23:39:26 -0400 (Fri, 24 Oct 2025) EllapsedTime: 57.9 seconds RetCode: 0 Status: WARNINGS CheckDir: RCyjs.Rcheck Warnings: 1