Package: RCSL Version: 1.17.0 Command: /Library/Frameworks/R.framework/Resources/bin/R CMD INSTALL RCSL StartedAt: 2025-10-17 15:20:49 -0400 (Fri, 17 Oct 2025) EndedAt: 2025-10-17 15:21:02 -0400 (Fri, 17 Oct 2025) EllapsedTime: 13.8 seconds RetCode: 0 Status: OK