Package: RCSL Version: 1.17.0 Command: /Library/Frameworks/R.framework/Resources/bin/R CMD check --install=check:RCSL.install-out.txt --library=/Library/Frameworks/R.framework/Resources/library --no-vignettes --timings RCSL_1.17.0.tar.gz StartedAt: 2025-10-17 01:44:06 -0400 (Fri, 17 Oct 2025) EndedAt: 2025-10-17 01:52:31 -0400 (Fri, 17 Oct 2025) EllapsedTime: 504.5 seconds RetCode: 0 Status: OK CheckDir: RCSL.Rcheck Warnings: 0