Package: RCSL Version: 1.17.0 Command: /Library/Frameworks/R.framework/Resources/bin/R CMD build --keep-empty-dirs --no-resave-data RCSL StartedAt: 2025-10-16 19:24:23 -0400 (Thu, 16 Oct 2025) EndedAt: 2025-10-16 19:25:11 -0400 (Thu, 16 Oct 2025) EllapsedTime: 48.4 seconds RetCode: 0 Status: OK PackageFile: RCSL_1.17.0.tar.gz PackageFileSize: 1.972 MiB