Package: RCSL Version: 1.17.0 Command: /Library/Frameworks/R.framework/Resources/bin/R CMD INSTALL RCSL StartedAt: 2025-10-08 15:16:16 -0400 (Wed, 08 Oct 2025) EndedAt: 2025-10-08 15:16:19 -0400 (Wed, 08 Oct 2025) EllapsedTime: 3.6 seconds RetCode: 0 Status: OK