Package: RCSL Version: 1.17.0 Command: /Library/Frameworks/R.framework/Resources/bin/R CMD build --keep-empty-dirs --no-resave-data RCSL StartedAt: 2025-10-09 17:26:56 -0400 (Thu, 09 Oct 2025) EndedAt: 2025-10-09 17:27:09 -0400 (Thu, 09 Oct 2025) EllapsedTime: 13.2 seconds RetCode: 0 Status: OK PackageFile: RCSL_1.17.0.tar.gz PackageFileSize: 1.974 MiB