Package: RCM Version: 1.25.1 Command: /home/biocbuild/R/R/bin/R CMD INSTALL RCM StartedAt: 2025-10-23 20:36:59 -0000 (Thu, 23 Oct 2025) EndedAt: 2025-10-23 20:37:30 -0000 (Thu, 23 Oct 2025) EllapsedTime: 31.5 seconds RetCode: 0 Status: OK