Package: RCM Version: 1.25.0 Command: /home/biocbuild/R/R/bin/R CMD check --install=check:RCM.install-out.txt --library=/home/biocbuild/R/R/site-library --no-vignettes --timings RCM_1.25.0.tar.gz StartedAt: 2025-10-17 12:37:21 -0000 (Fri, 17 Oct 2025) EndedAt: 2025-10-17 12:44:05 -0000 (Fri, 17 Oct 2025) EllapsedTime: 403.6 seconds RetCode: 0 Status: OK CheckDir: RCM.Rcheck Warnings: 0