Package: RCM Version: 1.25.1 Command: /home/biocbuild/R/R/bin/R CMD build --keep-empty-dirs --no-resave-data RCM StartedAt: 2025-10-21 02:20:04 -0000 (Tue, 21 Oct 2025) EndedAt: 2025-10-21 02:22:44 -0000 (Tue, 21 Oct 2025) EllapsedTime: 160.1 seconds RetCode: 0 Status: OK PackageFile: RCM_1.25.1.tar.gz PackageFileSize: 3.138 MiB