Package: RCM Version: 1.25.0 Command: /home/biocbuild/bbs-3.22-bioc/R/bin/R CMD INSTALL RCM StartedAt: 2025-10-19 15:18:27 -0400 (Sun, 19 Oct 2025) EndedAt: 2025-10-19 15:18:50 -0400 (Sun, 19 Oct 2025) EllapsedTime: 23.0 seconds RetCode: 0 Status: OK