Package: RCM Version: 1.25.0 Command: /home/biocbuild/bbs-3.22-bioc/R/bin/R CMD build --keep-empty-dirs --no-resave-data --md5 RCM StartedAt: 2025-10-19 19:32:09 -0400 (Sun, 19 Oct 2025) EndedAt: 2025-10-19 19:33:09 -0400 (Sun, 19 Oct 2025) EllapsedTime: 60.0 seconds RetCode: 0 Status: OK PackageFile: RCM_1.25.0.tar.gz PackageFileSize: 4.158 MiB