Package: RCM Version: 1.25.1 Command: /Library/Frameworks/R.framework/Resources/bin/R CMD INSTALL RCM StartedAt: 2025-10-21 15:21:16 -0400 (Tue, 21 Oct 2025) EndedAt: 2025-10-21 15:21:49 -0400 (Tue, 21 Oct 2025) EllapsedTime: 32.9 seconds RetCode: 0 Status: OK