Package: RCM Version: 1.25.1 Command: /Library/Frameworks/R.framework/Resources/bin/R CMD INSTALL RCM StartedAt: 2025-10-22 15:08:49 -0400 (Wed, 22 Oct 2025) EndedAt: 2025-10-22 15:08:57 -0400 (Wed, 22 Oct 2025) EllapsedTime: 8.9 seconds RetCode: 0 Status: OK