Package: RCM Version: 1.25.1 Command: /Library/Frameworks/R.framework/Resources/bin/R CMD build --keep-empty-dirs --no-resave-data RCM StartedAt: 2025-10-22 17:29:34 -0400 (Wed, 22 Oct 2025) EndedAt: 2025-10-22 17:30:22 -0400 (Wed, 22 Oct 2025) EllapsedTime: 48.6 seconds RetCode: 0 Status: OK PackageFile: RCM_1.25.1.tar.gz PackageFileSize: 4.826 MiB