Package: RCM Version: 1.25.1 Command: rm -rf RCM.buildbin-libdir && mkdir RCM.buildbin-libdir && /Users/biocbuild/BBS/utils/build-universal.sh RCM_1.25.1.tar.gz /Library/Frameworks/R.framework/Resources/bin/R RCM.buildbin-libdir StartedAt: 2025-10-22 23:13:09 -0400 (Wed, 22 Oct 2025) EndedAt: 2025-10-22 23:13:19 -0400 (Wed, 22 Oct 2025) EllapsedTime: 10.3 seconds RetCode: 0 Status: OK PackageFile: RCM_1.25.1.tgz PackageFileSize: 5.072 MiB