Package: RCASPAR Version: 1.56.0 Command: /home/biocbuild/R/R/bin/R CMD build --keep-empty-dirs --no-resave-data RCASPAR StartedAt: 2025-11-21 05:04:18 -0000 (Fri, 21 Nov 2025) EndedAt: 2025-11-21 05:04:25 -0000 (Fri, 21 Nov 2025) EllapsedTime: 7.0 seconds RetCode: 0 Status: OK PackageFile: RCASPAR_1.56.0.tar.gz PackageFileSize: 297.1 KiB