Package: RCASPAR Version: 1.55.0 Command: /Library/Frameworks/R.framework/Resources/bin/R CMD build --keep-empty-dirs --no-resave-data RCASPAR StartedAt: 2025-10-17 17:29:19 -0400 (Fri, 17 Oct 2025) EndedAt: 2025-10-17 17:29:23 -0400 (Fri, 17 Oct 2025) EllapsedTime: 4.1 seconds RetCode: 0 Status: OK PackageFile: RCASPAR_1.55.0.tar.gz PackageFileSize: 305.6 KiB