Package: RCAS Version: 1.35.0 Command: chmod a+r RCAS -R && F:\biocbuild\bbs-3.22-bioc\R\bin\R.exe CMD build --keep-empty-dirs --no-resave-data RCAS StartedAt: 2025-08-14 22:38:59 -0400 (Thu, 14 Aug 2025) EndedAt: 2025-08-14 22:42:50 -0400 (Thu, 14 Aug 2025) EllapsedTime: 231.5 seconds RetCode: 0 Status: OK PackageFile: RCAS_1.35.0.tar.gz PackageFileSize: 1.34 MiB