Package: RBM Version: 1.41.0 Command: /home/biocbuild/R/R/bin/R CMD build --keep-empty-dirs --no-resave-data RBM StartedAt: 2025-10-17 03:49:57 -0000 (Fri, 17 Oct 2025) EndedAt: 2025-10-17 03:50:44 -0000 (Fri, 17 Oct 2025) EllapsedTime: 47.0 seconds RetCode: 0 Status: OK PackageFile: RBM_1.41.0.tar.gz PackageFileSize: 364.3 KiB