Package: RBM Version: 1.41.0 Command: F:\biocbuild\bbs-3.22-bioc\R\bin\R.exe CMD INSTALL RBM StartedAt: 2025-08-14 15:21:28 -0400 (Thu, 14 Aug 2025) EndedAt: 2025-08-14 15:21:40 -0400 (Thu, 14 Aug 2025) EllapsedTime: 11.9 seconds RetCode: 0 Status: OK