Package: RBM Version: 1.41.0 Command: F:\biocbuild\bbs-3.22-bioc\R\bin\R.exe CMD check --no-multiarch --install=check:RBM.install-out.txt --library=F:\biocbuild\bbs-3.22-bioc\R\library --no-vignettes --timings RBM_1.41.0.tar.gz StartedAt: 2025-08-15 06:50:45 -0400 (Fri, 15 Aug 2025) EndedAt: 2025-08-15 06:51:49 -0400 (Fri, 15 Aug 2025) EllapsedTime: 63.5 seconds RetCode: 0 Status: OK CheckDir: RBM.Rcheck Warnings: 0