Package: RBM Version: 1.41.0 Command: chmod a+r RBM -R && F:\biocbuild\bbs-3.22-bioc\R\bin\R.exe CMD build --keep-empty-dirs --no-resave-data RBM StartedAt: 2025-08-14 22:38:26 -0400 (Thu, 14 Aug 2025) EndedAt: 2025-08-14 22:39:05 -0400 (Thu, 14 Aug 2025) EllapsedTime: 38.6 seconds RetCode: 0 Status: OK PackageFile: RBM_1.41.0.tar.gz PackageFileSize: 248 KiB