Package: RBM Version: 1.41.0 Command: rm -rf RBM.buildbin-libdir && mkdir RBM.buildbin-libdir && F:\biocbuild\bbs-3.22-bioc\R\bin\R.exe CMD INSTALL --build --library=RBM.buildbin-libdir RBM_1.41.0.tar.gz StartedAt: 2025-08-15 11:03:50 -0400 (Fri, 15 Aug 2025) EndedAt: 2025-08-15 11:03:55 -0400 (Fri, 15 Aug 2025) EllapsedTime: 5.3 seconds RetCode: 0 Status: OK PackageFile: RBM_1.41.0.zip PackageFileSize: 273.2 KiB