Package: RBM Version: 1.41.0 Command: /Library/Frameworks/R.framework/Resources/bin/R CMD check --install=check:RBM.install-out.txt --library=/Library/Frameworks/R.framework/Resources/library --no-vignettes --timings RBM_1.41.0.tar.gz StartedAt: 2025-10-05 23:57:27 -0400 (Sun, 05 Oct 2025) EndedAt: 2025-10-05 23:58:25 -0400 (Sun, 05 Oct 2025) EllapsedTime: 58.9 seconds RetCode: 0 Status: OK CheckDir: RBM.Rcheck Warnings: 0